BEGIN:VCALENDAR
VERSION:2.0
PRODID:-//Agrupación Fotográfica de La Rioja - ECPv5.0.1//NONSGML v1.0//EN
CALSCALE:GREGORIAN
METHOD:PUBLISH
X-WR-CALNAME:Agrupación Fotográfica de La Rioja
X-ORIGINAL-URL:https://www.lafotografica.org
X-WR-CALDESC:Eventos para Agrupación Fotográfica de La Rioja
BEGIN:VTIMEZONE
TZID:Europe/Helsinki
BEGIN:DAYLIGHT
TZOFFSETFROM:+0200
TZOFFSETTO:+0300
TZNAME:EEST
DTSTART:20250330T010000
END:DAYLIGHT
BEGIN:STANDARD
TZOFFSETFROM:+0300
TZOFFSETTO:+0200
TZNAME:EET
DTSTART:20251026T010000
END:STANDARD
END:VTIMEZONE
BEGIN:VEVENT
DTSTART;TZID=Europe/Helsinki:20250320T193000
DTEND;TZID=Europe/Helsinki:20250320T213000
DTSTAMP:20260424T031243
CREATED:20250111T063812Z
LAST-MODIFIED:20250111T063812Z
UID:6387-1742499000-1742506200@www.lafotografica.org
SUMMARY:¿TE GUSTA LA FOTOGRAFÍA? Curso básico de Photoshop
DESCRIPTION:¿TE GUSTA LA FOTOGRAFÍA? Curso básico de Photoshop (Bosco Mercadal)\nLos jueves 6 – 13 y 20 de marzo de 19:00 a 20:30 h.\nPrograma: Curso básico de Photoshop\n
URL:https://www.lafotografica.org/actividad/te-gusta-la-fotografia-curso-basico-de-photoshop-3/
CATEGORIES:TALLERES
ATTACH;FMTTYPE=image/jpeg:https://www.lafotografica.org/wp-content/uploads/page/afr/Curso-de-photoshop-AFR-R.jpg
END:VEVENT
END:VCALENDAR